BEGIN:VCALENDAR
VERSION:2.0
PRODID:-//Marco Ottaviani - ECPv6.2.8.2//NONSGML v1.0//EN
CALSCALE:GREGORIAN
METHOD:PUBLISH
X-WR-CALNAME:Marco Ottaviani
X-ORIGINAL-URL:https://marcoottavianipiano.com
X-WR-CALDESC:Events for Marco Ottaviani
REFRESH-INTERVAL;VALUE=DURATION:PT1H
X-Robots-Tag:noindex
X-PUBLISHED-TTL:PT1H
BEGIN:VTIMEZONE
TZID:Europe/Paris
BEGIN:DAYLIGHT
TZOFFSETFROM:+0100
TZOFFSETTO:+0200
TZNAME:CEST
DTSTART:20250330T010000
END:DAYLIGHT
BEGIN:STANDARD
TZOFFSETFROM:+0200
TZOFFSETTO:+0100
TZNAME:CET
DTSTART:20251026T010000
END:STANDARD
END:VTIMEZONE
BEGIN:VEVENT
DTSTART;TZID=Europe/Paris:20250301T160000
DTEND;TZID=Europe/Paris:20250301T170000
DTSTAMP:20260421T210105
CREATED:20241031T112742Z
LAST-MODIFIED:20241031T112742Z
UID:2131-1740844800-1740848400@marcoottavianipiano.com
SUMMARY:Recital Museu Romântico Porto\, Portugal
DESCRIPTION:
URL:https://marcoottavianipiano.com/event/recital-museu-romantico-porto-portugal/
LOCATION:Porto\, Porto\, Portugal
END:VEVENT
END:VCALENDAR