BEGIN:VCALENDAR
VERSION:2.0
PRODID:-//Marco Ottaviani - ECPv6.2.8.2//NONSGML v1.0//EN
CALSCALE:GREGORIAN
METHOD:PUBLISH
X-WR-CALNAME:Marco Ottaviani
X-ORIGINAL-URL:https://marcoottavianipiano.com
X-WR-CALDESC:Events for Marco Ottaviani
REFRESH-INTERVAL;VALUE=DURATION:PT1H
X-Robots-Tag:noindex
X-PUBLISHED-TTL:PT1H
BEGIN:VTIMEZONE
TZID:Europe/Paris
BEGIN:DAYLIGHT
TZOFFSETFROM:+0100
TZOFFSETTO:+0200
TZNAME:CEST
DTSTART:20250330T010000
END:DAYLIGHT
BEGIN:STANDARD
TZOFFSETFROM:+0200
TZOFFSETTO:+0100
TZNAME:CET
DTSTART:20251026T010000
END:STANDARD
END:VTIMEZONE
BEGIN:VEVENT
DTSTART;TZID=Europe/Paris:20251214T080000
DTEND;TZID=Europe/Paris:20251217T170000
DTSTAMP:20260421T172438
CREATED:20250914T085908Z
LAST-MODIFIED:20250914T085908Z
UID:2220-1765699200-1765990800@marcoottavianipiano.com
SUMMARY:Recording Scarlatti& Barber Cds
DESCRIPTION:Recording Scarlatti& Barber Cds for Onclassical
URL:https://marcoottavianipiano.com/event/recording-scarlatti-barber-cds/
END:VEVENT
END:VCALENDAR