BEGIN:VCALENDAR
VERSION:2.0
PRODID:-//Marco Ottaviani - ECPv6.2.8.2//NONSGML v1.0//EN
CALSCALE:GREGORIAN
METHOD:PUBLISH
X-WR-CALNAME:Marco Ottaviani
X-ORIGINAL-URL:https://marcoottavianipiano.com
X-WR-CALDESC:Events for Marco Ottaviani
REFRESH-INTERVAL;VALUE=DURATION:PT1H
X-Robots-Tag:noindex
X-PUBLISHED-TTL:PT1H
BEGIN:VTIMEZONE
TZID:Europe/Paris
BEGIN:DAYLIGHT
TZOFFSETFROM:+0100
TZOFFSETTO:+0200
TZNAME:CEST
DTSTART:20230326T010000
END:DAYLIGHT
BEGIN:STANDARD
TZOFFSETFROM:+0200
TZOFFSETTO:+0100
TZNAME:CET
DTSTART:20231029T010000
END:STANDARD
BEGIN:DAYLIGHT
TZOFFSETFROM:+0100
TZOFFSETTO:+0200
TZNAME:CEST
DTSTART:20240331T010000
END:DAYLIGHT
BEGIN:STANDARD
TZOFFSETFROM:+0200
TZOFFSETTO:+0100
TZNAME:CET
DTSTART:20241027T010000
END:STANDARD
BEGIN:DAYLIGHT
TZOFFSETFROM:+0100
TZOFFSETTO:+0200
TZNAME:CEST
DTSTART:20250330T010000
END:DAYLIGHT
BEGIN:STANDARD
TZOFFSETFROM:+0200
TZOFFSETTO:+0100
TZNAME:CET
DTSTART:20251026T010000
END:STANDARD
END:VTIMEZONE
BEGIN:VEVENT
DTSTART;TZID=Europe/Paris:20250301T160000
DTEND;TZID=Europe/Paris:20250301T170000
DTSTAMP:20260423T002658
CREATED:20241031T112742Z
LAST-MODIFIED:20241031T112742Z
UID:2131-1740844800-1740848400@marcoottavianipiano.com
SUMMARY:Recital Museu Romântico Porto\, Portugal
DESCRIPTION:
URL:https://marcoottavianipiano.com/event/recital-museu-romantico-porto-portugal/
LOCATION:Porto\, Porto\, Portugal
END:VEVENT
BEGIN:VEVENT
DTSTART;TZID=Europe/Paris:20250206T120000
DTEND;TZID=Europe/Paris:20250206T130000
DTSTAMP:20260423T002658
CREATED:20241031T113002Z
LAST-MODIFIED:20241031T113002Z
UID:2135-1738843200-1738846800@marcoottavianipiano.com
SUMMARY:Salle Cortot\, Paris
DESCRIPTION:
URL:https://marcoottavianipiano.com/event/salle-cortot-paris/
LOCATION:Salle Cortot\, Paris\, 75017\, France
END:VEVENT
BEGIN:VEVENT
DTSTART;TZID=Europe/Paris:20250108T210000
DTEND;TZID=Europe/Paris:20250108T230000
DTSTAMP:20260423T002658
CREATED:20241031T112442Z
LAST-MODIFIED:20241031T112442Z
UID:2126-1736370000-1736377200@marcoottavianipiano.com
SUMMARY:Recital Teatro Mazzacorati\, Bologna
DESCRIPTION:
URL:https://marcoottavianipiano.com/event/recital-teatro-mazzacorati-bologna/
LOCATION:teatro mazzacorati bologna\, Bologna\, Italy
END:VEVENT
BEGIN:VEVENT
DTSTART;TZID=Europe/Paris:20240820T190000
DTEND;TZID=Europe/Paris:20240820T203000
DTSTAMP:20260423T002658
CREATED:20240812T084928Z
LAST-MODIFIED:20240812T084928Z
UID:2058-1724180400-1724185800@marcoottavianipiano.com
SUMMARY:Grožnjan\, Recital
DESCRIPTION:Grožnjan (Croatia)\, Recital
URL:https://marcoottavianipiano.com/event/groznjan-recital/
END:VEVENT
BEGIN:VEVENT
DTSTART;TZID=Europe/Paris:20240817T170000
DTEND;TZID=Europe/Paris:20240817T183000
DTSTAMP:20260423T002658
CREATED:20240620T160458Z
LAST-MODIFIED:20240620T160458Z
UID:2016-1723914000-1723919400@marcoottavianipiano.com
SUMMARY:Recital Cagli\, Italie
DESCRIPTION:“Cagli delle Musiche”
URL:https://marcoottavianipiano.com/event/recital-cagli-italie/
LOCATION:Sala degli Stemmi\, Cagli\, Italy
END:VEVENT
BEGIN:VEVENT
DTSTART;TZID=Europe/Paris:20240802T200000
DTEND;TZID=Europe/Paris:20240802T220000
DTSTAMP:20260423T002658
CREATED:20240620T160215Z
LAST-MODIFIED:20240620T161007Z
UID:2014-1722628800-1722636000@marcoottavianipiano.com
SUMMARY:Pianissimo Summer Festival
DESCRIPTION:
URL:https://marcoottavianipiano.com/event/pianissimo-festival-2/
LOCATION:Palgauz on Strelka\, Russian Federation
END:VEVENT
BEGIN:VEVENT
DTSTART;TZID=Europe/Paris:20240731T200000
DTEND;TZID=Europe/Paris:20240731T220000
DTSTAMP:20260423T002658
CREATED:20240620T160041Z
LAST-MODIFIED:20240620T165226Z
UID:2011-1722456000-1722463200@marcoottavianipiano.com
SUMMARY:Pianissimo Summer Festival
DESCRIPTION:
URL:https://marcoottavianipiano.com/event/pianissimo-festival/
LOCATION:House of Culture\, 15 Bolotnaya Embankment\, Moscow\, Russie\, Fédération de
END:VEVENT
BEGIN:VEVENT
DTSTART;TZID=Europe/Paris:20240729T200000
DTEND;TZID=Europe/Paris:20240729T220000
DTSTAMP:20260423T002658
CREATED:20240620T155718Z
LAST-MODIFIED:20240620T155926Z
UID:2007-1722283200-1722290400@marcoottavianipiano.com
SUMMARY:Pianissimo Summer Festival
DESCRIPTION:
URL:https://marcoottavianipiano.com/event/pianissimo-summer-festival/
LOCATION:hermitage museum\, saint petersburg\, Russian Federation
END:VEVENT
BEGIN:VEVENT
DTSTART;TZID=Europe/Paris:20240715T190000
DTEND;TZID=Europe/Paris:20240715T200000
DTSTAMP:20260423T002658
CREATED:20240620T155454Z
LAST-MODIFIED:20240620T155454Z
UID:2004-1721070000-1721073600@marcoottavianipiano.com
SUMMARY:Recital Festival Europa Rapallo
DESCRIPTION:Program: \nScarlatti\, 4 Sonatas \nLiszt\, Ballade en si mineur \nRachmaninov\, Cadenza of concerto n.3 \nScriabin\, Sonate n.5 \nBrahms\, Variations on Paganini’s theme 2nd book
URL:https://marcoottavianipiano.com/event/recital-festival-europa-rapallo/
LOCATION:hotel europa rapallo\, Rapallo\, Italy
END:VEVENT
BEGIN:VEVENT
DTSTART;TZID=Europe/Paris:20240712T170000
DTEND;TZID=Europe/Paris:20240712T183000
DTSTAMP:20260423T002658
CREATED:20240620T154925Z
LAST-MODIFIED:20240620T154925Z
UID:2000-1720803600-1720809000@marcoottavianipiano.com
SUMMARY:Incontri Musicali d'Estate
DESCRIPTION:Recital Osimo\, Palazzo Campana. \nProgram: \nScarlatti\, Three sonatas \nLiszt\, Sonata in b minor \nScriabin\, Feuillet d’Album op.58 and Sonata n.5 \nBrahms\, Variations on Paganini’s variations 2nd book
URL:https://marcoottavianipiano.com/event/incontri-musicali-destate/
LOCATION:Palazzo Campana Osimo\, Osimo\, Italy
END:VEVENT
BEGIN:VEVENT
DTSTART;TZID=Europe/Paris:20240407T110000
DTEND;TZID=Europe/Paris:20240407T120000
DTSTAMP:20260423T002658
CREATED:20240227T142317Z
LAST-MODIFIED:20240227T142317Z
UID:1971-1712487600-1712491200@marcoottavianipiano.com
SUMMARY:Recital - Piccolo Teatro Borselli di Cento
DESCRIPTION:Piano Morning Recital in the Piccolo Teatro Borselli of Cento (Bologne)
URL:https://marcoottavianipiano.com/event/recital-piccolo-teatro-borselli-di-cento/
LOCATION:Cento Teatro Borselli\, Cento\, Bologne\, Italie
ATTACH;FMTTYPE=image/jpeg:https://marcoottavianipiano.com/wp-content/uploads/2024/02/concert-piano-Bologne.jpg
END:VEVENT
BEGIN:VEVENT
DTSTART;TZID=Europe/Paris:20240405T160000
DTEND;TZID=Europe/Paris:20240405T170000
DTSTAMP:20260423T002658
CREATED:20231211T092957Z
LAST-MODIFIED:20240227T140926Z
UID:1908-1712332800-1712336400@marcoottavianipiano.com
SUMMARY:“Amici teatro Carlo Paganini di Genova”
DESCRIPTION:Solo Recital
URL:https://marcoottavianipiano.com/event/amici-teatro-carlo-paganini-di-genova/
LOCATION:Palazzo Spinola\, Genova\, Italie
ATTACH;FMTTYPE=image/jpeg:https://marcoottavianipiano.com/wp-content/uploads/2023/12/concert-genova.jpg
END:VEVENT
BEGIN:VEVENT
DTSTART;VALUE=DATE:20231209
DTEND;VALUE=DATE:20231211
DTSTAMP:20260423T002658
CREATED:20231113T122315Z
LAST-MODIFIED:20231117T161839Z
UID:899-1702080000-1702252799@marcoottavianipiano.com
SUMMARY:Recording session for OnClassical
DESCRIPTION:Recording session for OnClassical
URL:https://marcoottavianipiano.com/event/recording-session/
LOCATION:Sala Maffeiana\, Verona\, Italie
ATTACH;FMTTYPE=image/jpeg:https://marcoottavianipiano.com/wp-content/uploads/2023/11/concert-09122023.jpg
END:VEVENT
BEGIN:VEVENT
DTSTART;TZID=Europe/Paris:20231129T200000
DTEND;TZID=Europe/Paris:20231129T213000
DTSTAMP:20260423T002658
CREATED:20231113T122028Z
LAST-MODIFIED:20231117T161624Z
UID:895-1701288000-1701293400@marcoottavianipiano.com
SUMMARY:Young artist Piano solo Series with Roma Tre Orchestra
DESCRIPTION:Program: \nLiszt/Schubert\,  Gretchen am Spinnrade \nSchubert\, Wanderer Phantasie \nLiszt\, sonata
URL:https://marcoottavianipiano.com/event/young-artist-piano-solo-series-with-roma-tre-orchestra/
LOCATION:RETTORATO DI ROMA H17\, Italie
ATTACH;FMTTYPE=image/jpeg:https://marcoottavianipiano.com/wp-content/uploads/2023/11/concert-roma-29112023.jpg
END:VEVENT
BEGIN:VEVENT
DTSTART;TZID=Europe/Paris:20231105T200000
DTEND;TZID=Europe/Paris:20231105T210000
DTSTAMP:20260423T002658
CREATED:20231113T121404Z
LAST-MODIFIED:20231117T161515Z
UID:889-1699214400-1699218000@marcoottavianipiano.com
SUMMARY:Concert - Théâtre de Passy
DESCRIPTION:Program:\nLiszt/Schubert\,  Gretchen am Spinnrade\nSchubert\, Wanderer Phantasie\nLiszt\, sonata
URL:https://marcoottavianipiano.com/event/theatre-passy/
LOCATION:Théâtre de Passy\, Paris\, France
ATTACH;FMTTYPE=image/jpeg:https://marcoottavianipiano.com/wp-content/uploads/2023/11/concert-passy-05112023.jpg
END:VEVENT
BEGIN:VEVENT
DTSTART;TZID=Europe/Paris:20231025T200000
DTEND;TZID=Europe/Paris:20231025T210000
DTSTAMP:20260423T002658
CREATED:20231117T160259Z
LAST-MODIFIED:20231117T162507Z
UID:1459-1698264000-1698267600@marcoottavianipiano.com
SUMMARY:Concert - Cortot Hall
DESCRIPTION:Program: \n\nScarlatti / Sonata k15\,  Sonata L39 ; Liszt / etude trascendental n.2 ; Schubert / Wanderer Phantasie
URL:https://marcoottavianipiano.com/event/concert-cortot-hall/
LOCATION:Cortot Hall\, 78 rue Cardinet 75017\, Paris\, 75017\, France
ATTACH;FMTTYPE=image/jpeg:https://marcoottavianipiano.com/wp-content/uploads/2023/11/concert-cortot-25102023.jpg
END:VEVENT
END:VCALENDAR