BEGIN:VCALENDAR
VERSION:2.0
PRODID:-//Marco Ottaviani - ECPv6.2.8.2//NONSGML v1.0//EN
CALSCALE:GREGORIAN
METHOD:PUBLISH
X-ORIGINAL-URL:https://marcoottavianipiano.com
X-WR-CALDESC:Events for Marco Ottaviani
REFRESH-INTERVAL;VALUE=DURATION:PT1H
X-Robots-Tag:noindex
X-PUBLISHED-TTL:PT1H
BEGIN:VTIMEZONE
TZID:Europe/Paris
BEGIN:DAYLIGHT
TZOFFSETFROM:+0100
TZOFFSETTO:+0200
TZNAME:CEST
DTSTART:20260329T010000
END:DAYLIGHT
BEGIN:STANDARD
TZOFFSETFROM:+0200
TZOFFSETTO:+0100
TZNAME:CET
DTSTART:20261025T010000
END:STANDARD
END:VTIMEZONE
BEGIN:VEVENT
DTSTART;TZID=Europe/Paris:20260407T190000
DTEND;TZID=Europe/Paris:20260407T210000
DTSTAMP:20260421T235622
CREATED:20260402T114211Z
LAST-MODIFIED:20260402T114211Z
UID:2250-1775588400-1775595600@marcoottavianipiano.com
SUMMARY:LISZT INSTITUTE (ZAGABRIA)
DESCRIPTION:LISZT INSTITUTE (ZAGABRIA) H 19 \nORGANIZZATO DALLA FONDAZIONE CRISTOFORIUM
URL:https://marcoottavianipiano.com/event/liszt-institute-zagabria/
END:VEVENT
BEGIN:VEVENT
DTSTART;TZID=Europe/Paris:20260408T190000
DTEND;TZID=Europe/Paris:20260408T210000
DTSTAMP:20260421T235622
CREATED:20260402T114712Z
LAST-MODIFIED:20260402T114712Z
UID:2252-1775674800-1775682000@marcoottavianipiano.com
SUMMARY:APERTURA CONCORSO MURAI GRAND PRIX (VARAZDIN)
DESCRIPTION:APERTURA CONCORSO MURAI GRAND PRIX (VARAZDIN) H 19
URL:https://marcoottavianipiano.com/event/apertura-concorso-murai-grand-prix-varazdin/
END:VEVENT
BEGIN:VEVENT
DTSTART;VALUE=DATE:20260509
DTEND;VALUE=DATE:20260510
DTSTAMP:20260421T235622
CREATED:20260402T120531Z
LAST-MODIFIED:20260402T120531Z
UID:2254-1778284800-1778371199@marcoottavianipiano.com
SUMMARY:VILLA MORANI (ROMA)
DESCRIPTION:VILLA MORANI (ROMA)
URL:https://marcoottavianipiano.com/event/villa-morani-roma/
LOCATION:Villa Morani\, Arsoli\, Roma
END:VEVENT
BEGIN:VEVENT
DTSTART;TZID=Europe/Paris:20260515T190000
DTEND;TZID=Europe/Paris:20260515T210000
DTSTAMP:20260421T235622
CREATED:20260402T121609Z
LAST-MODIFIED:20260402T121609Z
UID:2257-1778871600-1778878800@marcoottavianipiano.com
SUMMARY:FAZIOLI CONCERT HALL (SACILE)
DESCRIPTION:FAZIOLI CONCERT HALL (SACILE) H 19
URL:https://marcoottavianipiano.com/event/fazioli-concert-hall-sacile/
LOCATION:Fazioli Concert Hall\, Sacile\, Pordenone\, Italy
END:VEVENT
BEGIN:VEVENT
DTSTART;TZID=Europe/Paris:20260522T210000
DTEND;TZID=Europe/Paris:20260522T230000
DTSTAMP:20260421T235622
CREATED:20260402T122438Z
LAST-MODIFIED:20260402T122438Z
UID:2260-1779483600-1779490800@marcoottavianipiano.com
SUMMARY:UNIVERSITA' BOCCONI (MILANO)
DESCRIPTION:UNIVERSITA’ BOCCONI (MILANO) H 21
URL:https://marcoottavianipiano.com/event/universita-bocconi-milano/
LOCATION:Università Bocconi\, Milano\, Milano
END:VEVENT
BEGIN:VEVENT
DTSTART;TZID=Europe/Paris:20260604T210000
DTEND;TZID=Europe/Paris:20260604T230000
DTSTAMP:20260421T235622
CREATED:20260402T122927Z
LAST-MODIFIED:20260402T122927Z
UID:2263-1780606800-1780614000@marcoottavianipiano.com
SUMMARY:PALAZZO PATERNO' (CASERTA)
DESCRIPTION:PALAZZO PATERNO’ (CASERTA) H 21
URL:https://marcoottavianipiano.com/event/palazzo-paterno-caserta/
LOCATION:Palazzo Paternò\, Caserta\, Caserta\, Italy
END:VEVENT
BEGIN:VEVENT
DTSTART;VALUE=DATE:20260613
DTEND;VALUE=DATE:20260614
DTSTAMP:20260421T235622
CREATED:20260402T123545Z
LAST-MODIFIED:20260412T114246Z
UID:2266-1781308800-1781395199@marcoottavianipiano.com
SUMMARY:FONDAZIONE GIOVANNINI (MONTECCHIO EMILIA)
DESCRIPTION:FONDAZIONE GIORGIO E AURORA GIOVANNINI (MONTECCHIO EMILIA) \nRECITAL
URL:https://marcoottavianipiano.com/event/fondazione-giovannini-montecchio-emilia/
LOCATION:Montecchio Emilia\, Montecchio Emilia\, Reggio Emilia\, Italy
END:VEVENT
BEGIN:VEVENT
DTSTART;TZID=Europe/Paris:20260621T180000
DTEND;TZID=Europe/Paris:20260621T200000
DTSTAMP:20260421T235622
CREATED:20260412T114649Z
LAST-MODIFIED:20260414T180538Z
UID:2272-1782064800-1782072000@marcoottavianipiano.com
SUMMARY:PORDENONE PIANO CITY (PORDENONE)
DESCRIPTION:PORDENONE PIANO CITY (PORDENONE) H 18 \nRECITAL
URL:https://marcoottavianipiano.com/event/pordenone-piano-city-pordenone/
LOCATION:PORDENONE\, PORDENONE\, Italy
END:VEVENT
END:VCALENDAR